BEGIN:VCALENDAR
VERSION:2.0
PRODID:-//Plone.org//NONSGML plone.app.event//EN
X-WR-TIMEZONE:Europe/Berlin
BEGIN:VEVENT
SUMMARY:Gesundheit im pandemischen und globalen Zeitalter
DTSTART;TZID=Europe/Berlin:20220621T163000
DTSTAMP:20260421T084556Z
UID:04d1b2571365422ca987eea5955f5313@www.uni-marburg.de
ATTENDEE;CN="Prof. Dr. Thomas Nauss; Johannes Gehron, M. Sc.; Prof. Dr. Mi
 chael Knipper; Prof. Dr. Michael Kracht; Niklas Köhler, M. Sc.; Prof. Dr.
  Till Schäberle; Prof. Dr. Bernd Schmeck; Prof. Dr. Andreas Vilcinskas";R
 OLE=REQ-PARTICIPANT:Prof. Dr. Thomas Nauss; Johannes Gehron, M. Sc.; Prof.
  Dr. Michael Knipper; Prof. Dr. Michael Kracht; Niklas Köhler, M. Sc.; Pr
 of. Dr. Till Schäberle; Prof. Dr. Bernd Schmeck; Prof. Dr. Andreas Vilcin
 skas
CREATED:20220608T142558Z
DESCRIPTION:https://www.uni-marburg.de/de/aktuelles/events/termine-2-quart
 al-2022/fcmh-vortraege-gesundheit\n„Science in Pictures“-Vorträge in 
 der Jubiläumsreihe des Forschungscampus Mittelhessen
LAST-MODIFIED:20220608T143600Z
LOCATION:Hörsaalgebäude der Philipps-Universität\, Seminarraum +1/0120\
 , Biegenstraße 14\, 35037 Marburg
URL:https://www.uni-marburg.de/de/aktuelles/events/termine-2-quartal-2022/
 fcmh-vortraege-gesundheit
END:VEVENT
BEGIN:VTIMEZONE
TZID:Europe/Berlin
X-LIC-LOCATION:Europe/Berlin
BEGIN:DAYLIGHT
DTSTART:20220327T030000
TZNAME:CEST
TZOFFSETFROM:+0100
TZOFFSETTO:+0200
END:DAYLIGHT
END:VTIMEZONE
END:VCALENDAR
