BEGIN:VCALENDAR
VERSION:2.0
PRODID:-//Plone.org//NONSGML plone.app.event//EN
X-WR-TIMEZONE:Europe/Berlin
BEGIN:VEVENT
SUMMARY:Westdeutsche Debattiermeisterschaft: Finale der Regionalmeistersch
 aft Marburg
DTSTART;TZID=Europe/Berlin:20220424T140000
DTSTAMP:20260420T104351Z
UID:210945cced204c729e363364c69e488f@www.uni-marburg.de
CREATED:20210415T090153Z
DESCRIPTION:https://www.uni-marburg.de/de/aktuelles/events/termine-2-quart
 al-2022/finale-regionalmeisterschaft\n
LAST-MODIFIED:20220421T120412Z
LOCATION:Vortragsraum der Universitätsbibliothek\, Deutschhausstraße 9\,
  35037 Marburg
URL:https://www.uni-marburg.de/de/aktuelles/events/termine-2-quartal-2022/
 finale-regionalmeisterschaft
END:VEVENT
BEGIN:VTIMEZONE
TZID:Europe/Berlin
X-LIC-LOCATION:Europe/Berlin
BEGIN:DAYLIGHT
DTSTART:20220327T030000
TZNAME:CEST
TZOFFSETFROM:+0100
TZOFFSETTO:+0200
END:DAYLIGHT
END:VTIMEZONE
END:VCALENDAR
