BEGIN:VCALENDAR
VERSION:2.0
PRODID:-//Plone.org//NONSGML plone.app.event//EN
X-WR-TIMEZONE:Europe/Berlin
BEGIN:VEVENT
SUMMARY:Wege in eine nachhaltige Wirtschaft
DTSTART;TZID=Europe/Berlin:20220521T100000
DTEND;TZID=Europe/Berlin:20220521T163000
DTSTAMP:20260421T044916Z
UID:f43eb0b3c5764b919e04d953fd1b2835@www.uni-marburg.de
ATTENDEE;CN="Dr. Thomas Gambke, ehem. Bundestagsabgeordneter und Vorsitzen
 der des Grünen Wirtschaftsdialogs";ROLE=REQ-PARTICIPANT:Dr. Thomas Gambke
 , ehem. Bundestagsabgeordneter und Vorsitzender des Grünen Wirtschaftsdia
 logs
ATTENDEE;CN="Prof. Dr. Björn Vollan, Professor für Nachhaltige Nutzung n
 atürlicher Ressourcen (VWL) an der Philipps-Universität Marburg";ROLE=RE
 Q-PARTICIPANT:Prof. Dr. Björn Vollan, Professor für Nachhaltige Nutzung 
 natürlicher Ressourcen (VWL) an der Philipps-Universität Marburg
ATTENDEE;CN="Theresa Kersting, Referentin in der Abteilung Wirkungstranspa
 renz & Nachhaltigkeit der GLS Bank Bochum";ROLE=REQ-PARTICIPANT:Theresa Ke
 rsting, Referentin in der Abteilung Wirkungstransparenz & Nachhaltigkeit d
 er GLS Bank Bochum
ATTENDEE;CN=;ROLE=REQ-PARTICIPANT:
CREATED:20220518T143617Z
DESCRIPTION:https://www.uni-marburg.de/de/aktuelles/events/termine-2-quart
 al-2022/nachhaltige-wirtschaft\nNachhaltigkeitskongress der studentischen 
 Unternehmensberatung Phlink e.V.
LAST-MODIFIED:20220518T143818Z
LOCATION:Philipps-Universität Marburg\, Audimax\, Biegenstraße 14
URL:https://www.uni-marburg.de/de/aktuelles/events/termine-2-quartal-2022/
 nachhaltige-wirtschaft
END:VEVENT
BEGIN:VTIMEZONE
TZID:Europe/Berlin
X-LIC-LOCATION:Europe/Berlin
BEGIN:DAYLIGHT
DTSTART:20220327T030000
TZNAME:CEST
TZOFFSETFROM:+0100
TZOFFSETTO:+0200
END:DAYLIGHT
END:VTIMEZONE
END:VCALENDAR
