BEGIN:VCALENDAR
VERSION:2.0
PRODID:-//Plone.org//NONSGML plone.app.event//EN
X-WR-TIMEZONE:Europe/Berlin
BEGIN:VEVENT
SUMMARY:Vordenken von Zukünften – wie wollen wir leben\, forschen\, arb
 eiten?
DTSTART;TZID=Europe/Berlin:20220518T163000
DTEND;TZID=Europe/Berlin:20220518T190000
DTSTAMP:20260420T234842Z
UID:1aa9b0a67e7748339f42c7951c9d020f@www.uni-marburg.de
ATTENDEE;CN="Universitätspräsidenten Prof. Dr. Thomas Nauss (UMR), Prof.
  Dr. Joybrato Mukherjee (JLU), Prof. Dr. Matthias Willems (THM)  ";ROLE=RE
 Q-PARTICIPANT:Universitätspräsidenten Prof. Dr. Thomas Nauss (UMR), Prof
 . Dr. Joybrato Mukherjee (JLU), Prof. Dr. Matthias Willems (THM)  
ATTENDEE;CN="Prof. Dr. Katja Becker (DFG-Präsidentin), Angela Dorn (hessi
 sche Wissenschaftsministerin), Prof. Dr. Anika Oettler (UMR), Prof. Dr. Ke
 ywan Sohrabi (THM), Prof. Dr. Katja Fiehler (JLU), Dr. Lars Witteck (Präs
 ident der Von Behring-Röntgen-Stiftung, Vorstand der Volksbank Mittelhess
 en),";ROLE=REQ-PARTICIPANT:Prof. Dr. Katja Becker (DFG-Präsidentin), Ange
 la Dorn (hessische Wissenschaftsministerin), Prof. Dr. Anika Oettler (UMR)
 , Prof. Dr. Keywan Sohrabi (THM), Prof. Dr. Katja Fiehler (JLU), Dr. Lars 
 Witteck (Präsident der Von Behring-Röntgen-Stiftung, Vorstand der Volksb
 ank Mittelhessen),
ATTENDEE;CN="Dr. Jan-Martin Wiarda (Wissenschafts- und Bildungsjournalist)
 ";ROLE=REQ-PARTICIPANT:Dr. Jan-Martin Wiarda (Wissenschafts- und Bildungsj
 ournalist)
CREATED:20220512T140530Z
DESCRIPTION:https://www.uni-marburg.de/de/aktuelles/events/termine-2-quart
 al-2022/podiumsdiskussion-fcmh\nPodiumsdiskussion zum Auftakt der Jubiläu
 msreihe anlässlich des fünfjährigen Bestehens des Forschungscampus Mitt
 elhessen
LAST-MODIFIED:20220512T141256Z
LOCATION:Aula der Justus-Liebig-Universität Gießen\, Ludwigstraße 23\, 
 35390 Gießen und Livestream (hybrid)
URL:https://www.uni-marburg.de/de/aktuelles/events/termine-2-quartal-2022/
 podiumsdiskussion-fcmh
END:VEVENT
BEGIN:VTIMEZONE
TZID:Europe/Berlin
X-LIC-LOCATION:Europe/Berlin
BEGIN:DAYLIGHT
DTSTART:20220327T030000
TZNAME:CEST
TZOFFSETFROM:+0100
TZOFFSETTO:+0200
END:DAYLIGHT
END:VTIMEZONE
END:VCALENDAR
