BEGIN:VCALENDAR
VERSION:2.0
PRODID:-//Plone.org//NONSGML plone.app.event//EN
X-WR-TIMEZONE:Europe/Berlin
BEGIN:VEVENT
SUMMARY:Semesterabschlusskonzert der Studierenden-BigBand Marburg
DTSTART;TZID=Europe/Berlin:20220713T200000
DTSTAMP:20260424T075233Z
UID:1f7e324462b94714b0a9c4168e363b9f@www.uni-marburg.de
CREATED:20220527T095630Z
DESCRIPTION:https://www.uni-marburg.de/de/aktuelles/events/termine-2-quart
 al-2022/semesterabschlusskonzert-der-studierenden-bigband-marburg\n
LAST-MODIFIED:20220527T095733Z
LOCATION:Waggonhalle Marburg\, Rudolf-Bultmann-Straße 2A
URL:https://www.uni-marburg.de/de/aktuelles/events/termine-2-quartal-2022/
 semesterabschlusskonzert-der-studierenden-bigband-marburg
END:VEVENT
BEGIN:VTIMEZONE
TZID:Europe/Berlin
X-LIC-LOCATION:Europe/Berlin
BEGIN:DAYLIGHT
DTSTART:20220327T030000
TZNAME:CEST
TZOFFSETFROM:+0100
TZOFFSETTO:+0200
END:DAYLIGHT
END:VTIMEZONE
END:VCALENDAR
