BEGIN:VCALENDAR
VERSION:2.0
PRODID:-//Plone.org//NONSGML plone.app.event//EN
X-WR-TIMEZONE:Europe/Berlin
BEGIN:VEVENT
SUMMARY:Verleihung des 21. Marburger Kamerapreises an Claire Mathon
DTSTART;TZID=Europe/Berlin:20220507T200000
DTSTAMP:20260422T001441Z
UID:bf8abc2c4fc4416790b07805ed6d7383@www.uni-marburg.de
ATTENDEE;CN="Thierry de Peretti (Laudatio)";ROLE=REQ-PARTICIPANT:Thierry d
 e Peretti (Laudatio)
CREATED:20220506T123851Z
DESCRIPTION:https://www.uni-marburg.de/de/aktuelles/events/termine-2-quart
 al-2022/verleihung-des-21-marburger-kamerapreises-an-claire-mathon\nDie fr
 anzösische Kamerafrau Claire Mathon wird mit dem Marburger Kamerapreis 20
 22 geehrt
LAST-MODIFIED:20220506T123859Z
LOCATION:Cineplex\, Gerhard-Jahn-Platz\, Marburg
URL:https://www.uni-marburg.de/de/aktuelles/events/termine-2-quartal-2022/
 verleihung-des-21-marburger-kamerapreises-an-claire-mathon
END:VEVENT
BEGIN:VTIMEZONE
TZID:Europe/Berlin
X-LIC-LOCATION:Europe/Berlin
BEGIN:DAYLIGHT
DTSTART:20220327T030000
TZNAME:CEST
TZOFFSETFROM:+0100
TZOFFSETTO:+0200
END:DAYLIGHT
END:VTIMEZONE
END:VCALENDAR
