BEGIN:VCALENDAR
VERSION:2.0
PRODID:-//Plone.org//NONSGML plone.app.event//EN
X-WR-TIMEZONE:Europe/Berlin
BEGIN:VEVENT
SUMMARY:Marburger Wissenschaftsgespräche: Was wir aus historischen Pandem
 ien lernen
DTSTART;TZID=Europe/Berlin:20220531T190000
DTSTAMP:20260421T003116Z
UID:8c3f0fe02e3b4a438c6e8d3ec9b43d5a@www.uni-marburg.de
ATTENDEE;CN="Prof. Dr. Johannes Krause, Direktor am Max-Planck-Institut f
 ür Evolutionäre Anthropologie in Leipzig";ROLE=REQ-PARTICIPANT:Prof. Dr.
  Johannes Krause, Direktor am Max-Planck-Institut für Evolutionäre Anthr
 opologie in Leipzig
ATTENDEE;CN=;ROLE=REQ-PARTICIPANT:
CREATED:20220502T150005Z
DESCRIPTION:https://www.uni-marburg.de/de/aktuelles/events/termine-2-quart
 al-2022/wissenschaftsgespraeche_krause\nDer Archäogenetiker und Autor Pro
 f. Dr. Johannes Krause spricht über die genetische Geschichte der Pest
LAST-MODIFIED:20220517T114014Z
LOCATION:Vortragsraum der Universitätsbibliothek bzw. DFNconf-Portal
URL:https://www.uni-marburg.de/de/aktuelles/events/termine-2-quartal-2022/
 wissenschaftsgespraeche_krause
END:VEVENT
BEGIN:VTIMEZONE
TZID:Europe/Berlin
X-LIC-LOCATION:Europe/Berlin
BEGIN:DAYLIGHT
DTSTART:20220327T030000
TZNAME:CEST
TZOFFSETFROM:+0100
TZOFFSETTO:+0200
END:DAYLIGHT
END:VTIMEZONE
END:VCALENDAR
