BEGIN:VCALENDAR
VERSION:2.0
PRODID:-//Plone.org//NONSGML plone.app.event//EN
X-WR-TIMEZONE:Europe/Berlin
BEGIN:VEVENT
SUMMARY:Brüder Grimm-Preis 2022 an Susanne Lepsius
DTSTART;TZID=Europe/Berlin:20230505T180000
DTEND;TZID=Europe/Berlin:20230505T193000
DTSTAMP:20260424T123945Z
UID:fd3cc2ed76a748748db582a2a426b022@www.uni-marburg.de
CREATED:20230419T060144Z
DESCRIPTION:https://www.uni-marburg.de/de/aktuelles/events/termine-2-quart
 al-2023/brueder-grimm-preis-2022\nÖffentliche Preisverleihung mit anschli
 eßendem Empfang
LAST-MODIFIED:20230424T153014Z
LOCATION:Aula der Alten Universität\, Lahntor 3\, 35037 Marburg
URL:https://www.uni-marburg.de/de/aktuelles/events/termine-2-quartal-2023/
 brueder-grimm-preis-2022
END:VEVENT
BEGIN:VTIMEZONE
TZID:Europe/Berlin
X-LIC-LOCATION:Europe/Berlin
BEGIN:DAYLIGHT
DTSTART:20230326T030000
TZNAME:CEST
TZOFFSETFROM:+0100
TZOFFSETTO:+0200
END:DAYLIGHT
END:VTIMEZONE
END:VCALENDAR
