BEGIN:VCALENDAR
VERSION:2.0
PRODID:-//Plone.org//NONSGML plone.app.event//EN
X-WR-TIMEZONE:Europe/Berlin
BEGIN:VEVENT
SUMMARY:Die Welt mit anderen Augen sehen
DTSTART;TZID=Europe/Berlin:20230506T110000
DTEND;TZID=Europe/Berlin:20230506T180000
DTSTAMP:20260424T093813Z
UID:768140a53cc5446bb7827a7e5e598a8e@www.uni-marburg.de
CREATED:20230425T063616Z
DESCRIPTION:https://www.uni-marburg.de/de/aktuelles/events/termine-2-quart
 al-2023/die-welt-mit-anderen-augen-sehen\nErlebnisprogramm für Groß und 
 Klein zum Tag der Physik am 6. Mai
LAST-MODIFIED:20230425T063754Z
LOCATION:Renthof 5\, 35037 Marburg
URL:https://www.uni-marburg.de/de/aktuelles/events/termine-2-quartal-2023/
 die-welt-mit-anderen-augen-sehen
END:VEVENT
BEGIN:VTIMEZONE
TZID:Europe/Berlin
X-LIC-LOCATION:Europe/Berlin
BEGIN:DAYLIGHT
DTSTART:20230326T030000
TZNAME:CEST
TZOFFSETFROM:+0100
TZOFFSETTO:+0200
END:DAYLIGHT
END:VTIMEZONE
END:VCALENDAR
