BEGIN:VCALENDAR
VERSION:2.0
PRODID:-//Plone.org//NONSGML plone.app.event//EN
X-WR-TIMEZONE:Europe/Berlin
BEGIN:VEVENT
SUMMARY:Leishmaniose: Von Afrika nach Europa – eine Infektionserkrankung
  mit vielen Gesichtern auf dem Vormarsch in den Norden
DTSTART;TZID=Europe/Berlin:20230502T170000
DTSTAMP:20260423T140936Z
UID:fecf3db8017542728d244a5852cff062@www.uni-marburg.de
ATTENDEE;CN="Prof. Ulrich Steinhoff, Institut für Medizinische Mikrobiolo
 gie und Krankenhaushygiene (Philipps-Universität Marburg)";ROLE=REQ-PARTI
 CIPANT:Prof. Ulrich Steinhoff, Institut für Medizinische Mikrobiologie un
 d Krankenhaushygiene (Philipps-Universität Marburg)
ATTENDEE;CN="Moderation: Tanja Desch (ProLOEWE)";ROLE=REQ-PARTICIPANT:Mode
 ration: Tanja Desch (ProLOEWE)
CREATED:20230420T063847Z
DESCRIPTION:https://www.uni-marburg.de/de/aktuelles/events/termine-2-quart
 al-2023/druid-vortrag-2023-05-02\nVortrag im Rahmen der Online-Reihe zu ve
 rnachlässigten und armuts-assoziierten tropischen Infektionskrankheiten d
 es LOEWE-Zentrums DRUID
LAST-MODIFIED:20230420T065447Z
LOCATION:online via BigBlueButton
URL:https://www.uni-marburg.de/de/aktuelles/events/termine-2-quartal-2023/
 druid-vortrag-2023-05-02
END:VEVENT
BEGIN:VTIMEZONE
TZID:Europe/Berlin
X-LIC-LOCATION:Europe/Berlin
BEGIN:DAYLIGHT
DTSTART:20230326T030000
TZNAME:CEST
TZOFFSETFROM:+0100
TZOFFSETTO:+0200
END:DAYLIGHT
END:VTIMEZONE
END:VCALENDAR
