BEGIN:VCALENDAR
VERSION:2.0
PRODID:-//Plone.org//NONSGML plone.app.event//EN
X-WR-TIMEZONE:Europe/Berlin
BEGIN:VEVENT
SUMMARY:Das tödliche Oroya-Fieber - mehr als eine vernachlässigte Infekt
 ionskrankheit
DTSTART;TZID=Europe/Berlin:20230404T170000
DTSTAMP:20260424T092739Z
UID:a23d4f55a92d40fa8c1c926db23068df@www.uni-marburg.de
ATTENDEE;CN="Prof. Dr. Volkhard A. J. Kempf (Universitätsklinikum Frankfu
 rt, Institut für Medizinische Mikrobiologie und Krankenhaushygiene, Goeth
 e-Universität Frankfurt/Main)";ROLE=REQ-PARTICIPANT:Prof. Dr. Volkhard A.
  J. Kempf (Universitätsklinikum Frankfurt, Institut für Medizinische Mik
 robiologie und Krankenhaushygiene, Goethe-Universität Frankfurt/Main)
ATTENDEE;CN="Tanja Desch (ProLOEWE)";ROLE=REQ-PARTICIPANT:Tanja Desch (Pro
 LOEWE)
CREATED:20230330T065916Z
DESCRIPTION:https://www.uni-marburg.de/de/aktuelles/events/termine-2-quart
 al-2023/druid-vortrag\nVortrag am LOEWE-Zentrum DRUID über eine serodiagn
 ostische Feldstudie in Peru
LAST-MODIFIED:20230330T070320Z
LOCATION:Online\, BigBlueButton
URL:https://www.uni-marburg.de/de/aktuelles/events/termine-2-quartal-2023/
 druid-vortrag
END:VEVENT
BEGIN:VTIMEZONE
TZID:Europe/Berlin
X-LIC-LOCATION:Europe/Berlin
BEGIN:DAYLIGHT
DTSTART:20230326T030000
TZNAME:CEST
TZOFFSETFROM:+0100
TZOFFSETTO:+0200
END:DAYLIGHT
END:VTIMEZONE
END:VCALENDAR
