BEGIN:VCALENDAR
VERSION:2.0
PRODID:-//Plone.org//NONSGML plone.app.event//EN
X-WR-TIMEZONE:Europe/Berlin
BEGIN:VEVENT
SUMMARY:Hochschulwahlen für Studierende
DTSTART;TZID=Europe/Berlin:20230614T130000
DTEND;TZID=Europe/Berlin:20230627T130000
DTSTAMP:20260424T123850Z
UID:2bb60e7133d8408aa3cc4c3d2e925e79@www.uni-marburg.de
CREATED:20210608T152545Z
DESCRIPTION:https://www.uni-marburg.de/de/aktuelles/events/termine-2-quart
 al-2023/hochschulwahlen-studierende\nOnline-Wahl vom 14. bis 27. Juni 2023
LAST-MODIFIED:20230607T063619Z
LOCATION:Online
URL:https://www.uni-marburg.de/de/aktuelles/events/termine-2-quartal-2023/
 hochschulwahlen-studierende
END:VEVENT
BEGIN:VTIMEZONE
TZID:Europe/Berlin
X-LIC-LOCATION:Europe/Berlin
BEGIN:DAYLIGHT
DTSTART:20230326T030000
TZNAME:CEST
TZOFFSETFROM:+0100
TZOFFSETTO:+0200
END:DAYLIGHT
END:VTIMEZONE
END:VCALENDAR
