BEGIN:VCALENDAR
VERSION:2.0
PRODID:-//Plone.org//NONSGML plone.app.event//EN
X-WR-TIMEZONE:Europe/Berlin
BEGIN:VEVENT
SUMMARY:"Notfallmedizin für alle – Bürger retten Bürger"
DTSTART;TZID=Europe/Berlin:20230524T180000
DTSTAMP:20260424T202312Z
UID:af3dff29d23948758a91ddccbfabd39b@www.uni-marburg.de
ATTENDEE;CN="Prof. Dr. Hinnerk Wulf, Direktor der Klinik für Anästhesie 
 und Intensivtherapie";ROLE=REQ-PARTICIPANT:Prof. Dr. Hinnerk Wulf, Direkto
 r der Klinik für Anästhesie und Intensivtherapie
ATTENDEE;CN="Dr. Dana Spies und Dr. Markus Spies, Not- und Fachärzte in d
 er Klinik für Anästhesie und Intensivtherapie  ";ROLE=REQ-PARTICIPANT:Dr
 . Dana Spies und Dr. Markus Spies, Not- und Fachärzte in der Klinik für 
 Anästhesie und Intensivtherapie  
ATTENDEE;CN="Stephan Schween, Rettungsassistent und Intensivpfleger am UKG
 M";ROLE=REQ-PARTICIPANT:Stephan Schween, Rettungsassistent und Intensivpfl
 eger am UKGM
CREATED:20230522T142851Z
DESCRIPTION:https://www.uni-marburg.de/de/aktuelles/events/termine-2-quart
 al-2023/notfallmedizin-fuer-alle-buerger-retten-buerger\nBürgervorlesung 
 des UKGM und des Fachbereichs Medizin von Prof. Dr. Hinnerk Wulf\, Dr. Dan
 a Spies und Dr. Markus Spies und Stephan Schween
LAST-MODIFIED:20230522T142939Z
LOCATION:Hörsaalgebäude B/01\, Biegenstraße 14\, 35037 Marburg\, Audima
 x Raum: +2/0010
URL:https://www.uni-marburg.de/de/aktuelles/events/termine-2-quartal-2023/
 notfallmedizin-fuer-alle-buerger-retten-buerger
END:VEVENT
BEGIN:VTIMEZONE
TZID:Europe/Berlin
X-LIC-LOCATION:Europe/Berlin
BEGIN:DAYLIGHT
DTSTART:20230326T030000
TZNAME:CEST
TZOFFSETFROM:+0100
TZOFFSETTO:+0200
END:DAYLIGHT
END:VTIMEZONE
END:VCALENDAR
