BEGIN:VCALENDAR
VERSION:2.0
PRODID:-//Plone.org//NONSGML plone.app.event//EN
X-WR-TIMEZONE:Europe/Berlin
BEGIN:VEVENT
SUMMARY:Russlands Angriff als "Zeitenwende". Was bleibt von der europäisc
 hen Sicherheitsforschung?
DTSTART;TZID=Europe/Berlin:20230530T180000
DTEND;TZID=Europe/Berlin:20230530T200000
DTSTAMP:20260424T092905Z
UID:95f77b9a14e743f79a638af1514cd3b3@www.uni-marburg.de
ATTENDEE;CN="Prof. Dr. Ulrich Schneckener, Universität Osnabrück";ROLE=R
 EQ-PARTICIPANT:Prof. Dr. Ulrich Schneckener, Universität Osnabrück
CREATED:20230522T130857Z
DESCRIPTION:https://www.uni-marburg.de/de/aktuelles/events/termine-2-quart
 al-2023/sfb138_vortrag-schneckener\nAbendvortrag in der Veranstaltungsreih
 e „Nationale Sicherheitsstrategie“ des Sonderforschungsbereichs Transr
 egio 138 „Dynamiken der Sicherheit“.
LAST-MODIFIED:20230522T133221Z
LOCATION:Herder-Institut\, Vortragssaal\, Gisonenweg 5-7\, 35037 Marburg
URL:https://www.uni-marburg.de/de/aktuelles/events/termine-2-quartal-2023/
 sfb138_vortrag-schneckener
END:VEVENT
BEGIN:VTIMEZONE
TZID:Europe/Berlin
X-LIC-LOCATION:Europe/Berlin
BEGIN:DAYLIGHT
DTSTART:20230326T030000
TZNAME:CEST
TZOFFSETFROM:+0100
TZOFFSETTO:+0200
END:DAYLIGHT
END:VTIMEZONE
END:VCALENDAR
