BEGIN:VCALENDAR
VERSION:2.0
PRODID:-//Plone.org//NONSGML plone.app.event//EN
X-WR-TIMEZONE:Europe/Berlin
BEGIN:VEVENT
SUMMARY:Verleihung des 22. Marburger Kamerapreises an Benedict Neuenfels
DTSTART;TZID=Europe/Berlin:20230506T200000
DTSTAMP:20260425T000022Z
UID:780324c3db4e4f349e15a4478c40c809@www.uni-marburg.de
CREATED:20230503T082612Z
DESCRIPTION:https://www.uni-marburg.de/de/aktuelles/events/termine-2-quart
 al-2023/verleihung-des-22-marburger-kamerapreises-an-benedict-neuenfels\nB
 ild-Kunst-Kameragespräche und Kamerapreis am Wochenende in Marburger Kino
 s
LAST-MODIFIED:20230504T140220Z
LOCATION:Cineplex Marburg\, Biegenstraße 1a\, 35037 Marburg
URL:https://www.uni-marburg.de/de/aktuelles/events/termine-2-quartal-2023/
 verleihung-des-22-marburger-kamerapreises-an-benedict-neuenfels
END:VEVENT
BEGIN:VTIMEZONE
TZID:Europe/Berlin
X-LIC-LOCATION:Europe/Berlin
BEGIN:DAYLIGHT
DTSTART:20230326T030000
TZNAME:CEST
TZOFFSETFROM:+0100
TZOFFSETTO:+0200
END:DAYLIGHT
END:VTIMEZONE
END:VCALENDAR
