BEGIN:VCALENDAR
VERSION:2.0
PRODID:-//Plone.org//NONSGML plone.app.event//EN
X-WR-TIMEZONE:Europe/Berlin
BEGIN:VEVENT
SUMMARY:Ausstellungseröffnung: "Ja\, DAS ist Antisemitismus! Jüdische Er
 fahrungen in Hessen"
DTSTART;TZID=Europe/Berlin:20240529T163000
DTEND;TZID=Europe/Berlin:20240529T173000
DTSTAMP:20260425T224905Z
UID:df1ba9c2480843a6925beb5aded07ebd@www.uni-marburg.de
CREATED:20240523T095456Z
DESCRIPTION:https://www.uni-marburg.de/de/aktuelles/events/termine-2-quart
 al-2024-1/ausstellungseroeffnung-ja-das-ist-antisemitismus-juedische-erfah
 rungen-in-hessen\nAusstellung der Recherche- und Informationsstelle Antise
 mitismus Hessen (RIAS Hessen) in Kooperation mit der Philipps-Universität
  Marburg
LAST-MODIFIED:20240523T095524Z
LOCATION:Universität Marburg\, Biegenstraße 10\, Foyer
URL:https://www.uni-marburg.de/de/aktuelles/events/termine-2-quartal-2024-
 1/ausstellungseroeffnung-ja-das-ist-antisemitismus-juedische-erfahrungen-i
 n-hessen
END:VEVENT
BEGIN:VTIMEZONE
TZID:Europe/Berlin
X-LIC-LOCATION:Europe/Berlin
BEGIN:DAYLIGHT
DTSTART:20240331T030000
TZNAME:CEST
TZOFFSETFROM:+0100
TZOFFSETTO:+0200
END:DAYLIGHT
END:VTIMEZONE
END:VCALENDAR
