BEGIN:VCALENDAR
VERSION:2.0
PRODID:-//Plone.org//NONSGML plone.app.event//EN
X-WR-TIMEZONE:Europe/Berlin
BEGIN:VEVENT
SUMMARY:Landgrafenschloss der Zukunft
DTSTART;TZID=Europe/Berlin:20240419T133000
DTEND;TZID=Europe/Berlin:20240420T170000
DTSTAMP:20260421T231339Z
UID:ef2980fdb0724ea39bb36f3f1a47ba75@www.uni-marburg.de
CREATED:20240411T153220Z
DESCRIPTION:https://www.uni-marburg.de/de/aktuelles/events/termine-2-quart
 al-2024-1/landgrafenschloss-der-zukunft\nBeteiligungstage mit Workshops\, 
 Erlebnis- und Mitmachangeboten
LAST-MODIFIED:20240411T153424Z
LOCATION:Landgrafenschloss\, Marburg
URL:https://www.uni-marburg.de/de/aktuelles/events/termine-2-quartal-2024-
 1/landgrafenschloss-der-zukunft
END:VEVENT
BEGIN:VTIMEZONE
TZID:Europe/Berlin
X-LIC-LOCATION:Europe/Berlin
BEGIN:DAYLIGHT
DTSTART:20240331T030000
TZNAME:CEST
TZOFFSETFROM:+0100
TZOFFSETTO:+0200
END:DAYLIGHT
END:VTIMEZONE
END:VCALENDAR
