BEGIN:VCALENDAR
VERSION:2.0
PRODID:-//Plone.org//NONSGML plone.app.event//EN
X-WR-TIMEZONE:Europe/Berlin
BEGIN:VEVENT
SUMMARY:Lectio Philippina der Hessischen Stipendiat*innenanstalt
DTSTART;TZID=Europe/Berlin:20240515T201500
DTSTAMP:20260424T041200Z
UID:96aae0f376d74a81aec5b3b6f8d0aac0@www.uni-marburg.de
CREATED:20231120T153845Z
DESCRIPTION:https://www.uni-marburg.de/de/aktuelles/events/termine-2-quart
 al-2024-1/lectio-philippina-der-hessischen-stipendiat-innenanstalt\nSexual
 isierte Gewalt in der evangelischen Kirche - Prävention und Aufarbeitung.
  Öffentlicher Vortrags- und Diskussionsabend zu den Ergebnissen der ForuM
 -Studie mit Prof. Dr.  Beate Hofmann\, Bischöfin der ev. Kirche von Kurhe
 ssen-Waldeck.
LAST-MODIFIED:20240514T070925Z
LOCATION:Aula der Alten Universität\, Lahntor 3\, Marburg
URL:https://www.uni-marburg.de/de/aktuelles/events/termine-2-quartal-2024-
 1/lectio-philippina-der-hessischen-stipendiat-innenanstalt
END:VEVENT
BEGIN:VTIMEZONE
TZID:Europe/Berlin
X-LIC-LOCATION:Europe/Berlin
BEGIN:DAYLIGHT
DTSTART:20240331T030000
TZNAME:CEST
TZOFFSETFROM:+0100
TZOFFSETTO:+0200
END:DAYLIGHT
END:VTIMEZONE
END:VCALENDAR
