BEGIN:VCALENDAR
VERSION:2.0
PRODID:-//Plone.org//NONSGML plone.app.event//EN
X-WR-TIMEZONE:Europe/Berlin
BEGIN:VEVENT
SUMMARY:Symposium zum 100. Geburtstag von Heinz Düx
DTSTART;TZID=Europe/Berlin:20240426T140000
DTEND;TZID=Europe/Berlin:20240426T190000
DTSTAMP:20260421T122145Z
UID:a98f58f374cd4951a8725f63141e5140@www.uni-marburg.de
ATTENDEE;CN="Prof. Dr. Boris Burghardt, Fachbereich Rechtswissenschaften, 
 Philipps-Universität Marburg (Begrüßung)";ROLE=REQ-PARTICIPANT:Prof. Dr
 . Boris Burghardt, Fachbereich Rechtswissenschaften, Philipps-Universität
  Marburg (Begrüßung)
ATTENDEE;CN="Dr. Thomas Spies, Oberbürgermeister der Stadt Marburg (Begr
 üßung)";ROLE=REQ-PARTICIPANT:Dr. Thomas Spies, Oberbürgermeister der St
 adt Marburg (Begrüßung)
ATTENDEE;CN="Leara Kalden, Philipps-Universität Marburg";ROLE=REQ-PARTICI
 PANT:Leara Kalden, Philipps-Universität Marburg
ATTENDEE;CN="Arne Erdmann, Martin-Luther-Schule Marburg";ROLE=REQ-PARTICIP
 ANT:Arne Erdmann, Martin-Luther-Schule Marburg
ATTENDEE;CN="Henning Tauche, Justus-Liebig-Universität Gießen";ROLE=REQ-
 PARTICIPANT:Henning Tauche, Justus-Liebig-Universität Gießen
ATTENDEE;CN="Sylvia Düx-Heiseler (moderiertes Gespräch)";ROLE=REQ-PARTIC
 IPANT:Sylvia Düx-Heiseler (moderiertes Gespräch)
ATTENDEE;CN="Georg D. Falk, Vorsitzender Richter am OLG Frankfurt/Main a. 
 D. (moderiertes Gespräch)";ROLE=REQ-PARTICIPANT:Georg D. Falk, Vorsitzend
 er Richter am OLG Frankfurt/Main a. D. (moderiertes Gespräch)
CREATED:20240411T143650Z
DESCRIPTION:https://www.uni-marburg.de/de/aktuelles/events/termine-2-quart
 al-2024-1/symposium-zum-100-geburtstag-von-heinz-duex\nPhilipps-Universit
 ät und Stadt Marburg erinnern an prominenten Juristen und Bürger Marburg
 s
LAST-MODIFIED:20240411T144736Z
LOCATION:Aula der Alten Universität\, Lahntor 3\, 35037 Marburg
URL:https://www.uni-marburg.de/de/aktuelles/events/termine-2-quartal-2024-
 1/symposium-zum-100-geburtstag-von-heinz-duex
END:VEVENT
BEGIN:VTIMEZONE
TZID:Europe/Berlin
X-LIC-LOCATION:Europe/Berlin
BEGIN:DAYLIGHT
DTSTART:20240331T030000
TZNAME:CEST
TZOFFSETFROM:+0100
TZOFFSETTO:+0200
END:DAYLIGHT
END:VTIMEZONE
END:VCALENDAR
