BEGIN:VCALENDAR
VERSION:2.0
PRODID:-//Plone.org//NONSGML plone.app.event//EN
X-WR-TIMEZONE:Europe/Berlin
BEGIN:VEVENT
SUMMARY:Finale der Westdeutschen Debattiermeisterschaft 2025
DTSTART;TZID=Europe/Berlin:20250413T143000
DTSTAMP:20260424T225847Z
UID:8d870f335f544ac6ba293abaf3eb6969@www.uni-marburg.de
CREATED:20250407T101543Z
DESCRIPTION:https://www.uni-marburg.de/de/aktuelles/events/termine-2-quart
 al-2025/finale-der-westdeutschen-debattiermeisterschaft-2025\n
LAST-MODIFIED:20250407T105743Z
LOCATION:Aula der Alten Universität\, Lahntor 3
URL:https://www.uni-marburg.de/de/aktuelles/events/termine-2-quartal-2025/
 finale-der-westdeutschen-debattiermeisterschaft-2025
END:VEVENT
BEGIN:VTIMEZONE
TZID:Europe/Berlin
X-LIC-LOCATION:Europe/Berlin
BEGIN:DAYLIGHT
DTSTART:20250330T030000
TZNAME:CEST
TZOFFSETFROM:+0100
TZOFFSETTO:+0200
END:DAYLIGHT
END:VTIMEZONE
END:VCALENDAR
