BEGIN:VCALENDAR
VERSION:2.0
PRODID:-//Plone.org//NONSGML plone.app.event//EN
X-WR-TIMEZONE:Europe/Berlin
BEGIN:VEVENT
SUMMARY:Interne Budgetierung der Philipps-Universität Marburg - Schwerpun
 kt: Budgetmodell der Fachbereiche
DTSTART;TZID=Europe/Berlin:20180707T100000
DTEND;TZID=Europe/Berlin:20180707T120000
DTSTAMP:20260423T100506Z
UID:4d74b0bcba394a08bf2f149d2ce53141@www.uni-marburg.de
ATTENDEE;CN="Bernshausen, Peter (Dez V A 2 - Referat für Interne Budgetpl
 anung und Kontrolle)";ROLE=REQ-PARTICIPANT:Bernshausen, Peter (Dez V A 2 -
  Referat für Interne Budgetplanung und Kontrolle)
ATTENDEE;CN="Lotz Dr., Anja (Stabsstelle Strategisches Controlling und Hoc
 hschulbudgetierung)";ROLE=REQ-PARTICIPANT:Lotz Dr., Anja (Stabsstelle Stra
 tegisches Controlling und Hochschulbudgetierung)
CREATED:20180118T114850Z
DESCRIPTION:https://www.uni-marburg.de/de/aktuelles/events/termine-3-quart
 al-2018/180606_budgetierenfb\nNeuer Termin. \n\nZielgruppe: \nMitarbeiter/
 innen der Dekanate\, Wirtschaftsverwaltungen
LAST-MODIFIED:20180621T082631Z
LOCATION:B | 03\, Biegenstrasse 12\, 125 (PC-Schulungsraum 125)
URL:https://www.uni-marburg.de/de/aktuelles/events/termine-3-quartal-2018/
 180606_budgetierenfb
END:VEVENT
BEGIN:VTIMEZONE
TZID:Europe/Berlin
X-LIC-LOCATION:Europe/Berlin
BEGIN:DAYLIGHT
DTSTART:20180325T030000
TZNAME:CEST
TZOFFSETFROM:+0100
TZOFFSETTO:+0200
END:DAYLIGHT
END:VTIMEZONE
END:VCALENDAR
