BEGIN:VCALENDAR
VERSION:2.0
PRODID:-//Plone.org//NONSGML plone.app.event//EN
X-WR-TIMEZONE:Europe/Berlin
BEGIN:VEVENT
SUMMARY:Kooperationen – Kontroversen – Kompetenzen
DTSTART;TZID=Europe/Berlin:20180906T130000
DTEND;TZID=Europe/Berlin:20180907T170000
DTSTAMP:20260424T234717Z
UID:9951ea186f6f4c44a31e2ee92817cf2c@www.uni-marburg.de
ATTENDEE;CN="D. Eckardt (Stabsstelle Konfliktberatung und Prozessentwicklu
 ng)";ROLE=REQ-PARTICIPANT:D. Eckardt (Stabsstelle Konfliktberatung und Pro
 zessentwicklung)
CREATED:20171218T074818Z
DESCRIPTION:https://www.uni-marburg.de/de/aktuelles/events/termine-3-quart
 al-2018/180622_gfmmodul_2\n2. Modul der Veranstaltungsreihe "Gestalten - F
 ühren - Motivieren : Verantwortung für Personen und Projekte"\, insbeson
 dere für neuberufene Professorinnen und Professoren
LAST-MODIFIED:20180615T073047Z
LOCATION:B|02\, Biegenstraße 10\, Alter Senatssitzungssaal (01 029)
URL:https://www.uni-marburg.de/de/aktuelles/events/termine-3-quartal-2018/
 180622_gfmmodul_2
END:VEVENT
BEGIN:VTIMEZONE
TZID:Europe/Berlin
X-LIC-LOCATION:Europe/Berlin
BEGIN:DAYLIGHT
DTSTART:20180325T030000
TZNAME:CEST
TZOFFSETFROM:+0100
TZOFFSETTO:+0200
END:DAYLIGHT
END:VTIMEZONE
END:VCALENDAR
