BEGIN:VCALENDAR
VERSION:2.0
PRODID:-//Plone.org//NONSGML plone.app.event//EN
X-WR-TIMEZONE:Europe/Berlin
BEGIN:VEVENT
SUMMARY:Gesunder Umgang mit Stress/Stressmanagement
DTSTART;TZID=Europe/Berlin:20180821T083000
DTEND;TZID=Europe/Berlin:20180822T163000
DTSTAMP:20260423T160922Z
UID:c7fef2a8614249a9bd02bcf024997ad3@www.uni-marburg.de
ATTENDEE;CN="Sabine Frieg, www.diekommunikatoere.de";ROLE=REQ-PARTICIPANT:
 Sabine Frieg, www.diekommunikatoere.de
CREATED:20180125T145739Z
DESCRIPTION:https://www.uni-marburg.de/de/aktuelles/events/termine-3-quart
 al-2018/180821_22_stressmanagement_frieg\n2-tägiger Workshop\; jeweils 08
 :30 - 16:30 Uhr
LAST-MODIFIED:20180420T113238Z
LOCATION:Barfüßertor 25\, Räume von "die kommunikatöre"
URL:https://www.uni-marburg.de/de/aktuelles/events/termine-3-quartal-2018/
 180821_22_stressmanagement_frieg
END:VEVENT
BEGIN:VTIMEZONE
TZID:Europe/Berlin
X-LIC-LOCATION:Europe/Berlin
BEGIN:DAYLIGHT
DTSTART:20180325T030000
TZNAME:CEST
TZOFFSETFROM:+0100
TZOFFSETTO:+0200
END:DAYLIGHT
END:VTIMEZONE
END:VCALENDAR
