BEGIN:VCALENDAR
VERSION:2.0
PRODID:-//Plone.org//NONSGML plone.app.event//EN
X-WR-TIMEZONE:Europe/Berlin
BEGIN:VEVENT
SUMMARY:Lehren und Lernen im Tutorium
DTSTART;TZID=Europe/Berlin:20180927T101500
DTSTAMP:20260423T160417Z
UID:52e859e6bb064a248306f4ff175a865e@www.uni-marburg.de
ATTENDEE;CN=N.N.;ROLE=REQ-PARTICIPANT:N.N.
CREATED:20170825T130622Z
DESCRIPTION:https://www.uni-marburg.de/de/aktuelles/events/termine-3-quart
 al-2018/18fit13\nWorkshop im Rahmen des Basismoduls des FIT-Programms für
  studentische Tutor/innen
LAST-MODIFIED:20171219T092426Z
LOCATION:F/05 +01/0010 [Deutschhausstraße 11+13]
URL:https://www.uni-marburg.de/de/aktuelles/events/termine-3-quartal-2018/
 18fit13
END:VEVENT
BEGIN:VTIMEZONE
TZID:Europe/Berlin
X-LIC-LOCATION:Europe/Berlin
BEGIN:DAYLIGHT
DTSTART:20180325T030000
TZNAME:CEST
TZOFFSETFROM:+0100
TZOFFSETTO:+0200
END:DAYLIGHT
END:VTIMEZONE
END:VCALENDAR
