BEGIN:VCALENDAR
VERSION:2.0
PRODID:-//Plone.org//NONSGML plone.app.event//EN
X-WR-TIMEZONE:Europe/Berlin
BEGIN:VEVENT
SUMMARY:Der Darm - von wegen nur Verdauung
DTSTART;TZID=Europe/Berlin:20180813T191500
DTSTAMP:20260423T160442Z
UID:abf79bbfae93414e9f29865aa23eee45@www.uni-marburg.de
ATTENDEE;CN="Prof. Dr. Ulrich Steinhoff, Philipps-Universität Marburg, In
 stitut für med. Mikrobiologie";ROLE=REQ-PARTICIPANT:Prof. Dr. Ulrich Stei
 nhoff, Philipps-Universität Marburg, Institut für med. Mikrobiologie
CREATED:20180710T064729Z
DESCRIPTION:https://www.uni-marburg.de/de/aktuelles/events/termine-3-quart
 al-2018/2018-08-13\nUnibund-Vortrag
LAST-MODIFIED:20180710T064826Z
LOCATION:Hotel- Restaurant Stadt Cassel in 34576 Homberg (Efze)\, Wallstra
 ße 3
URL:https://www.uni-marburg.de/de/aktuelles/events/termine-3-quartal-2018/
 2018-08-13
END:VEVENT
BEGIN:VTIMEZONE
TZID:Europe/Berlin
X-LIC-LOCATION:Europe/Berlin
BEGIN:DAYLIGHT
DTSTART:20180325T030000
TZNAME:CEST
TZOFFSETFROM:+0100
TZOFFSETTO:+0200
END:DAYLIGHT
END:VTIMEZONE
END:VCALENDAR
