BEGIN:VCALENDAR
VERSION:2.0
PRODID:-//Plone.org//NONSGML plone.app.event//EN
X-WR-TIMEZONE:Europe/Berlin
BEGIN:VEVENT
SUMMARY:Ein Besuch im Botanischen Garten
DTSTART;TZID=Europe/Berlin:20180821T150000
DTSTAMP:20260423T200539Z
UID:6019e76ddbb74fef946a8e524aded900@www.uni-marburg.de
ATTENDEE;CN="Prof. Dr. Gerhard Kost, Philipps-Universität Marburg, FB Bio
 logie";ROLE=REQ-PARTICIPANT:Prof. Dr. Gerhard Kost, Philipps-Universität 
 Marburg, FB Biologie
CREATED:20180416T080947Z
DESCRIPTION:https://www.uni-marburg.de/de/aktuelles/events/termine-3-quart
 al-2018/2018-08-21\nUnibund-Vortrag: Ein Besuch im Botanischen Garten
LAST-MODIFIED:20180416T081011Z
LOCATION:Wetter\, Altentagesstätte\, Schulstraße 29
URL:https://www.uni-marburg.de/de/aktuelles/events/termine-3-quartal-2018/
 2018-08-21
END:VEVENT
BEGIN:VTIMEZONE
TZID:Europe/Berlin
X-LIC-LOCATION:Europe/Berlin
BEGIN:DAYLIGHT
DTSTART:20180325T030000
TZNAME:CEST
TZOFFSETFROM:+0100
TZOFFSETTO:+0200
END:DAYLIGHT
END:VTIMEZONE
END:VCALENDAR
