BEGIN:VCALENDAR
VERSION:2.0
PRODID:-//Plone.org//NONSGML plone.app.event//EN
X-WR-TIMEZONE:Europe/Berlin
BEGIN:VEVENT
SUMMARY:Grund zu Panik auf der Titanik?
DTSTART;TZID=Europe/Berlin:20180903T191500
DTSTAMP:20260424T075746Z
UID:7fcebd78ff3a49c381269bca9719b4e2@www.uni-marburg.de
ATTENDEE;CN="PD Dr. Johannes M. Becker, Philipps-Universität Marburg, Zen
 trum für Konfliktforschung";ROLE=REQ-PARTICIPANT:PD Dr. Johannes M. Becke
 r, Philipps-Universität Marburg, Zentrum für Konfliktforschung
CREATED:20180710T064729Z
DESCRIPTION:https://www.uni-marburg.de/de/aktuelles/events/termine-3-quart
 al-2018/2018-09-03\nUnibund-Vortrag
LAST-MODIFIED:20180710T065059Z
LOCATION:Hotel- Restaurant Stadt Cassel in 34576 Homberg (Efze)\, Wallstra
 ße 3
URL:https://www.uni-marburg.de/de/aktuelles/events/termine-3-quartal-2018/
 2018-09-03
END:VEVENT
BEGIN:VTIMEZONE
TZID:Europe/Berlin
X-LIC-LOCATION:Europe/Berlin
BEGIN:DAYLIGHT
DTSTART:20180325T030000
TZNAME:CEST
TZOFFSETFROM:+0100
TZOFFSETTO:+0200
END:DAYLIGHT
END:VTIMEZONE
END:VCALENDAR
