BEGIN:VCALENDAR
VERSION:2.0
PRODID:-//Plone.org//NONSGML plone.app.event//EN
X-WR-TIMEZONE:Europe/Berlin
BEGIN:VEVENT
SUMMARY:Flucht und Asyl im Alten Testament und heute
DTSTART;TZID=Europe/Berlin:20180917T191500
DTSTAMP:20260424T062740Z
UID:1a2a5edacfd043b49ab48aa4161dd5db@www.uni-marburg.de
ATTENDEE;CN="Professor Dr. Erhard S. Gerstenberger";ROLE=REQ-PARTICIPANT:P
 rofessor Dr. Erhard S. Gerstenberger
CREATED:20180710T064729Z
DESCRIPTION:https://www.uni-marburg.de/de/aktuelles/events/termine-3-quart
 al-2018/2018-09-17\nUnibund-Vortrag
LAST-MODIFIED:20180710T065226Z
LOCATION:Hotel- Restaurant Stadt Cassel in 34576 Homberg (Efze)\, Wallstra
 ße 3
URL:https://www.uni-marburg.de/de/aktuelles/events/termine-3-quartal-2018/
 2018-09-17
END:VEVENT
BEGIN:VTIMEZONE
TZID:Europe/Berlin
X-LIC-LOCATION:Europe/Berlin
BEGIN:DAYLIGHT
DTSTART:20180325T030000
TZNAME:CEST
TZOFFSETFROM:+0100
TZOFFSETTO:+0200
END:DAYLIGHT
END:VTIMEZONE
END:VCALENDAR
