BEGIN:VCALENDAR
VERSION:2.0
PRODID:-//Plone.org//NONSGML plone.app.event//EN
X-WR-TIMEZONE:Europe/Berlin
BEGIN:VEVENT
SUMMARY:Führungsentwicklung: Wie aus Mitarbeitern Führungskräfte werden
DTSTART;TZID=Europe/Berlin:20180919T190000
DTSTAMP:20260424T062742Z
UID:4d9f889aeee34468b77c4368f9908a0d@www.uni-marburg.de
ATTENDEE;CN="Prof. Dr. Thomas Friedrich Armbrüster, Philipps-Universität
  Marburg, FB Wirtschaftswissenschaften";ROLE=REQ-PARTICIPANT:Prof. Dr. Tho
 mas Friedrich Armbrüster, Philipps-Universität Marburg, FB Wirtschaftswi
 ssenschaften
CREATED:20180723T072741Z
DESCRIPTION:https://www.uni-marburg.de/de/aktuelles/events/termine-3-quart
 al-2018/2018-09-19\nUnibund-Vortrag
LAST-MODIFIED:20180723T073844Z
LOCATION:Wilhelm-von-Oranien-Schule Dillenburg\, Jahnstraße 1
URL:https://www.uni-marburg.de/de/aktuelles/events/termine-3-quartal-2018/
 2018-09-19
END:VEVENT
BEGIN:VTIMEZONE
TZID:Europe/Berlin
X-LIC-LOCATION:Europe/Berlin
BEGIN:DAYLIGHT
DTSTART:20180325T030000
TZNAME:CEST
TZOFFSETFROM:+0100
TZOFFSETTO:+0200
END:DAYLIGHT
END:VTIMEZONE
END:VCALENDAR
