BEGIN:VCALENDAR
VERSION:2.0
PRODID:-//Plone.org//NONSGML plone.app.event//EN
X-WR-TIMEZONE:Europe/Berlin
BEGIN:VEVENT
SUMMARY:Sri Lanka\, tropische Insel im Indischen Ozean
DTSTART;TZID=Europe/Berlin:20180923T110000
DTSTAMP:20260424T045112Z
UID:15c4c414f94c4227a021d5738e90b16c@www.uni-marburg.de
ATTENDEE;CN="Dr. Hans Moser";ROLE=REQ-PARTICIPANT:Dr. Hans Moser
CREATED:20180903T104253Z
DESCRIPTION:https://www.uni-marburg.de/de/aktuelles/events/termine-3-quart
 al-2018/20180923\n
LAST-MODIFIED:20180903T104319Z
LOCATION:Botanischer Garten\, Lahnberge
URL:https://www.uni-marburg.de/de/aktuelles/events/termine-3-quartal-2018/
 20180923
END:VEVENT
BEGIN:VTIMEZONE
TZID:Europe/Berlin
X-LIC-LOCATION:Europe/Berlin
BEGIN:DAYLIGHT
DTSTART:20180325T030000
TZNAME:CEST
TZOFFSETFROM:+0100
TZOFFSETTO:+0200
END:DAYLIGHT
END:VTIMEZONE
END:VCALENDAR
