BEGIN:VCALENDAR
VERSION:2.0
PRODID:-//Plone.org//NONSGML plone.app.event//EN
X-WR-TIMEZONE:Europe/Berlin
BEGIN:VEVENT
SUMMARY:Antrittsvorlesung Prof. Dr. C. Komusiewicz
DTSTART;TZID=Europe/Berlin:20180706T150000
DTEND;TZID=Europe/Berlin:20180706T180000
DTSTAMP:20260424T003909Z
UID:11ffa075d3334662aa4de2e6044484f5@www.uni-marburg.de
CREATED:20180619T070951Z
DESCRIPTION:https://www.uni-marburg.de/de/aktuelles/events/termine-3-quart
 al-2018/antrvlkomusiewicz\n
LAST-MODIFIED:20180619T071017Z
LOCATION:Alte Aula der Universität\, Lahntor 3
URL:https://www.uni-marburg.de/de/aktuelles/events/termine-3-quartal-2018/
 antrvlkomusiewicz
END:VEVENT
BEGIN:VTIMEZONE
TZID:Europe/Berlin
X-LIC-LOCATION:Europe/Berlin
BEGIN:DAYLIGHT
DTSTART:20180325T030000
TZNAME:CEST
TZOFFSETFROM:+0100
TZOFFSETTO:+0200
END:DAYLIGHT
END:VTIMEZONE
END:VCALENDAR
