BEGIN:VCALENDAR
VERSION:2.0
PRODID:-//Plone.org//NONSGML plone.app.event//EN
X-WR-TIMEZONE:Europe/Berlin
BEGIN:VEVENT
SUMMARY:Auslandsreisen: „Reisekostenrecht für Einsteiger“
DTSTART;TZID=Europe/Berlin:20180925T083000
DTEND;TZID=Europe/Berlin:20180926T130000
DTSTAMP:20260423T082657Z
UID:41f15c1f2a24405284b2e97f7111f81f@www.uni-marburg.de
ATTENDEE;CN="Marita Blümke und Silas Kissel (Dez. II B 2)";ROLE=REQ-PARTI
 CIPANT:Marita Blümke und Silas Kissel (Dez. II B 2)
CREATED:20180125T145739Z
DESCRIPTION:https://www.uni-marburg.de/de/aktuelles/events/termine-3-quart
 al-2018/auslandsreisen_180925_26\n2-tägiges Seminar\, jeweils 08:30 - 13:
 00 Uhr für "Einsteiger" und alle\, die Auslandsreisen genehmigen und/oder
  abrechnen und entweder bereits Erfahrung darin besitzen oder an dem Semin
 ar "Reisekostenrecht bei Inlandsreisen" teilgenommen haben.
LAST-MODIFIED:20180621T072021Z
LOCATION:F | 04\, Deutschhausstrasse 3\, Raum 002 (00/1020)
URL:https://www.uni-marburg.de/de/aktuelles/events/termine-3-quartal-2018/
 auslandsreisen_180925_26
END:VEVENT
BEGIN:VTIMEZONE
TZID:Europe/Berlin
X-LIC-LOCATION:Europe/Berlin
BEGIN:DAYLIGHT
DTSTART:20180325T030000
TZNAME:CEST
TZOFFSETFROM:+0100
TZOFFSETTO:+0200
END:DAYLIGHT
END:VTIMEZONE
END:VCALENDAR
