BEGIN:VCALENDAR
VERSION:2.0
PRODID:-//Plone.org//NONSGML plone.app.event//EN
X-WR-TIMEZONE:Europe/Berlin
BEGIN:VEVENT
SUMMARY:Bei „Demnächst: Studium!“  offene Fragen klären
DTSTART;TZID=Europe/Berlin:20180612T140000
DTEND;TZID=Europe/Berlin:20180612T160000
DTSTAMP:20260423T163206Z
UID:0374c93138534c56850fd02f0bc6331f@www.uni-marburg.de
RRULE:FREQ=DAILY;COUNT=1
CREATED:20180511T105416Z
DESCRIPTION:https://www.uni-marburg.de/de/aktuelles/events/termine-3-quart
 al-2018/bei-demnaechst-studium-offene-fragen-klaeren\nInformationsangebot 
 für zukünftige Studierende am 12. und 19. Juni 2018
LAST-MODIFIED:20180511T105658Z
LOCATION:Philipps-Universität Marburg\, Sitzungssaal 003\, Biegenstraße 
 12\, 35037 Marburg
URL:https://www.uni-marburg.de/de/aktuelles/events/termine-3-quartal-2018/
 bei-demnaechst-studium-offene-fragen-klaeren
END:VEVENT
BEGIN:VTIMEZONE
TZID:Europe/Berlin
X-LIC-LOCATION:Europe/Berlin
BEGIN:DAYLIGHT
DTSTART:20180325T030000
TZNAME:CEST
TZOFFSETFROM:+0100
TZOFFSETTO:+0200
END:DAYLIGHT
END:VTIMEZONE
END:VCALENDAR
