BEGIN:VCALENDAR
VERSION:2.0
PRODID:-//Plone.org//NONSGML plone.app.event//EN
X-WR-TIMEZONE:Europe/Berlin
BEGIN:VEVENT
SUMMARY:Vorsorge- und Früherkennungsuntersuchungen und -programme in Deut
 schland
DTSTART;TZID=Europe/Berlin:20180924T191500
DTSTAMP:20260425T003334Z
UID:91993ed26b8f4967a8ce45982763b0f8@www.uni-marburg.de
ATTENDEE;CN="Prof. Dr. Erika Baum, Med. Zentrum für Methodenwissenschafte
 n und Gesundheitsforschung, FB Medizin";ROLE=REQ-PARTICIPANT:Prof. Dr. Eri
 ka Baum, Med. Zentrum für Methodenwissenschaften und Gesundheitsforschung
 , FB Medizin
CREATED:20180710T064729Z
DESCRIPTION:https://www.uni-marburg.de/de/aktuelles/events/termine-3-quart
 al-2018/copy_of_2018-09-03\nUnibund-Vortrag
LAST-MODIFIED:20180710T065515Z
LOCATION:Hotel- Restaurant Stadt Cassel in 34576 Homberg (Efze)\, Wallstra
 ße 3
URL:https://www.uni-marburg.de/de/aktuelles/events/termine-3-quartal-2018/
 copy_of_2018-09-03
END:VEVENT
BEGIN:VTIMEZONE
TZID:Europe/Berlin
X-LIC-LOCATION:Europe/Berlin
BEGIN:DAYLIGHT
DTSTART:20180325T030000
TZNAME:CEST
TZOFFSETFROM:+0100
TZOFFSETTO:+0200
END:DAYLIGHT
END:VTIMEZONE
END:VCALENDAR
