BEGIN:VCALENDAR
VERSION:2.0
PRODID:-//Plone.org//NONSGML plone.app.event//EN
X-WR-TIMEZONE:Europe/Berlin
BEGIN:VEVENT
SUMMARY:Grünes Wachstum\, ökologischer Ablasshandel und Postwachstumsök
 onomie
DTSTART;TZID=Europe/Berlin:20180709T183000
DTEND;TZID=Europe/Berlin:20180709T200000
DTSTAMP:20260424T062838Z
UID:ccca0461b6864a72ad1b3ebdb52bdbad@www.uni-marburg.de
ATTENDEE;CN="Prof. Dr. Niko Paech (Siegen)";ROLE=REQ-PARTICIPANT:Prof. Dr.
  Niko Paech (Siegen)
CREATED:20180704T150657Z
DESCRIPTION:https://www.uni-marburg.de/de/aktuelles/events/termine-3-quart
 al-2018/gruenes-wachstum\n7. Vortrag der Ringvorlesung „Konflikte in Geg
 enwart und Zukunft“ im Sommersemester 2018
LAST-MODIFIED:20180704T150757Z
LOCATION:+1/0010 im Hörsaalgebäude in der Biegenstraße 14
URL:https://www.uni-marburg.de/de/aktuelles/events/termine-3-quartal-2018/
 gruenes-wachstum
END:VEVENT
BEGIN:VTIMEZONE
TZID:Europe/Berlin
X-LIC-LOCATION:Europe/Berlin
BEGIN:DAYLIGHT
DTSTART:20180325T030000
TZNAME:CEST
TZOFFSETFROM:+0100
TZOFFSETTO:+0200
END:DAYLIGHT
END:VTIMEZONE
END:VCALENDAR
