BEGIN:VCALENDAR
VERSION:2.0
PRODID:-//Plone.org//NONSGML plone.app.event//EN
X-WR-TIMEZONE:Europe/Berlin
BEGIN:VEVENT
SUMMARY:Inlandsreisen: „Reisekostenrecht für Einsteiger“
DTSTART;TZID=Europe/Berlin:20180918T083000
DTEND;TZID=Europe/Berlin:20180919T130000
DTSTAMP:20260425T040804Z
UID:e472def1f75d45228342527fcebda11b@www.uni-marburg.de
ATTENDEE;CN="Marita Blümke und Silas Kissel (Dez. II B 2)";ROLE=REQ-PARTI
 CIPANT:Marita Blümke und Silas Kissel (Dez. II B 2)
CREATED:20180713T144231Z
DESCRIPTION:https://www.uni-marburg.de/de/aktuelles/events/termine-3-quart
 al-2018/inlandsreisen-reisekostenrecht-fuer-einsteiger\n2-tägiges Seminar
 \, jeweils 08:30 - 13:00 Uhr für alle\, die Reisen genehmigen und abrechn
 en.
LAST-MODIFIED:20180713T144300Z
LOCATION:U | 04\, Universitätsstrasse 24\, 11 (00/0110)
URL:https://www.uni-marburg.de/de/aktuelles/events/termine-3-quartal-2018/
 inlandsreisen-reisekostenrecht-fuer-einsteiger
END:VEVENT
BEGIN:VTIMEZONE
TZID:Europe/Berlin
X-LIC-LOCATION:Europe/Berlin
BEGIN:DAYLIGHT
DTSTART:20180325T030000
TZNAME:CEST
TZOFFSETFROM:+0100
TZOFFSETTO:+0200
END:DAYLIGHT
END:VTIMEZONE
END:VCALENDAR
