BEGIN:VCALENDAR
VERSION:2.0
PRODID:-//Plone.org//NONSGML plone.app.event//EN
X-WR-TIMEZONE:Europe/Berlin
BEGIN:VEVENT
SUMMARY:Kindersoldat/innen und Verantwortlichkeit für Völkerrechtsverbre
 chen
DTSTART;TZID=Europe/Berlin:20180711T161500
DTEND;TZID=Europe/Berlin:20180711T174500
DTSTAMP:20260424T050443Z
UID:895de7cf796b4ab0ac1e14d190c30032@www.uni-marburg.de
ATTENDEE;CN="Dr. Leonie Steinl, LLM. (Humboldt-Universität zu Berlin)";RO
 LE=REQ-PARTICIPANT:Dr. Leonie Steinl, LLM. (Humboldt-Universität zu Berli
 n)
CREATED:20180704T145334Z
DESCRIPTION:https://www.uni-marburg.de/de/aktuelles/events/termine-3-quart
 al-2018/kindersoldat-innen\n
LAST-MODIFIED:20180704T145410Z
LOCATION:Savigny-Haus\, Raum 312 (Universitätsstraße 6\, 3. Stock)
URL:https://www.uni-marburg.de/de/aktuelles/events/termine-3-quartal-2018/
 kindersoldat-innen
END:VEVENT
BEGIN:VTIMEZONE
TZID:Europe/Berlin
X-LIC-LOCATION:Europe/Berlin
BEGIN:DAYLIGHT
DTSTART:20180325T030000
TZNAME:CEST
TZOFFSETFROM:+0100
TZOFFSETTO:+0200
END:DAYLIGHT
END:VTIMEZONE
END:VCALENDAR
