BEGIN:VCALENDAR
VERSION:2.0
PRODID:-//Plone.org//NONSGML plone.app.event//EN
X-WR-TIMEZONE:Europe/Berlin
BEGIN:VEVENT
SUMMARY:Semesterabschlusskonzerte des Studenten-Sinfonieorchesters Marburg
  e.V.
DTSTART;TZID=Europe/Berlin:20180713T200000
DTSTAMP:20260423T163205Z
UID:061090f6bf414690b3fb9e6d72c2c91f@www.uni-marburg.de
CREATED:20180626T131802Z
DESCRIPTION:https://www.uni-marburg.de/de/aktuelles/events/termine-3-quart
 al-2018/konzert-studenten-sinfonieorchester-1\nAuch in diesem Sommer lädt
  das SSO zu seinen traditionellen Semesterabschlusskonzerten ein
LAST-MODIFIED:20180626T131830Z
LOCATION:Audimax\, Biegenstraße 14\, Marburg
URL:https://www.uni-marburg.de/de/aktuelles/events/termine-3-quartal-2018/
 konzert-studenten-sinfonieorchester-1
END:VEVENT
BEGIN:VTIMEZONE
TZID:Europe/Berlin
X-LIC-LOCATION:Europe/Berlin
BEGIN:DAYLIGHT
DTSTART:20180325T030000
TZNAME:CEST
TZOFFSETFROM:+0100
TZOFFSETTO:+0200
END:DAYLIGHT
END:VTIMEZONE
END:VCALENDAR
