BEGIN:VCALENDAR
VERSION:2.0
PRODID:-//Plone.org//NONSGML plone.app.event//EN
X-WR-TIMEZONE:Europe/Berlin
BEGIN:VEVENT
SUMMARY:XII. Kongress der Ernst-Troeltsch-Gesellschaft „Die Kreativität
  des Christentums“
DTSTART;TZID=Europe/Berlin:20180919T150000
DTEND;TZID=Europe/Berlin:20180921T130000
DTSTAMP:20260424T040016Z
UID:58788ed21dec4b009e9f16e457ea3b18@www.uni-marburg.de
ATTENDEE;CN="Markus Buntfuß";ROLE=REQ-PARTICIPANT:Markus Buntfuß
ATTENDEE;CN="Ruth Conrad";ROLE=REQ-PARTICIPANT:Ruth Conrad
ATTENDEE;CN="Johann Hinrich Claussen";ROLE=REQ-PARTICIPANT:Johann Hinrich 
 Claussen
ATTENDEE;CN="Hans Joas ";ROLE=REQ-PARTICIPANT:Hans Joas 
ATTENDEE;CN="Hartmut Kreß ";ROLE=REQ-PARTICIPANT:Hartmut Kreß 
ATTENDEE;CN="Malte Dominik Krüger ";ROLE=REQ-PARTICIPANT:Malte Dominik Kr
 üger 
ATTENDEE;CN="Andreas Kubik ";ROLE=REQ-PARTICIPANT:Andreas Kubik 
ATTENDEE;CN="Magnus Lerch ";ROLE=REQ-PARTICIPANT:Magnus Lerch 
ATTENDEE;CN="Georg Pfleiderer";ROLE=REQ-PARTICIPANT:Georg Pfleiderer
ATTENDEE;CN="Wolf-Friedrich Schäufele ";ROLE=REQ-PARTICIPANT:Wolf-Friedri
 ch Schäufele 
ATTENDEE;CN="Maike Schult";ROLE=REQ-PARTICIPANT:Maike Schult
CREATED:20180904T105709Z
DESCRIPTION:https://www.uni-marburg.de/de/aktuelles/events/termine-3-quart
 al-2018/kreativitaet-christentum\nVortrag und Tagung sind öffentlich.
LAST-MODIFIED:20180904T105910Z
LOCATION:Alte Universität\, Lahntor 3\, 35032 Marburg
URL:https://www.uni-marburg.de/de/aktuelles/events/termine-3-quartal-2018/
 kreativitaet-christentum
END:VEVENT
BEGIN:VTIMEZONE
TZID:Europe/Berlin
X-LIC-LOCATION:Europe/Berlin
BEGIN:DAYLIGHT
DTSTART:20180325T030000
TZNAME:CEST
TZOFFSETFROM:+0100
TZOFFSETTO:+0200
END:DAYLIGHT
END:VTIMEZONE
END:VCALENDAR
