BEGIN:VCALENDAR
VERSION:2.0
PRODID:-//Plone.org//NONSGML plone.app.event//EN
X-WR-TIMEZONE:Europe/Berlin
BEGIN:VEVENT
SUMMARY:Geteilte Heimat?
DTSTART;TZID=Europe/Berlin:20180705T180000
DTEND;TZID=Europe/Berlin:20180705T200000
DTSTAMP:20260424T041516Z
UID:3c6e727987434fedab70546df40d3df1@www.uni-marburg.de
ATTENDEE;CN="Martin G. Maier";ROLE=REQ-PARTICIPANT:Martin G. Maier
CREATED:20180410T123602Z
DESCRIPTION:https://www.uni-marburg.de/de/aktuelles/events/termine-3-quart
 al-2018/maierkonservatismusvortrag\nÜber die Konservativen und den Patrio
 tismus der Neuen Sozialen Bewegungen in den achtziger Jahren im Rahmen des
  Semesterschwerpunkts "Heimat?" der Vortragsreihe "Was ist Politik? Bilder
  und Ideen der interdisziplinären Forschung" von Portal Ideengeschichte
LAST-MODIFIED:20180626T083427Z
LOCATION:Marburg\, Philipps-Universität Marburg\, Hörsaalgebäude\, Bieg
 enstraße 14\, Raum +1/0030
URL:https://www.uni-marburg.de/de/aktuelles/events/termine-3-quartal-2018/
 maierkonservatismusvortrag
END:VEVENT
BEGIN:VTIMEZONE
TZID:Europe/Berlin
X-LIC-LOCATION:Europe/Berlin
BEGIN:DAYLIGHT
DTSTART:20180325T030000
TZNAME:CEST
TZOFFSETFROM:+0100
TZOFFSETTO:+0200
END:DAYLIGHT
END:VTIMEZONE
END:VCALENDAR
