BEGIN:VCALENDAR
VERSION:2.0
PRODID:-//Plone.org//NONSGML plone.app.event//EN
X-WR-TIMEZONE:Europe/Berlin
BEGIN:VEVENT
SUMMARY:Als Führungskraft im Spannungsfeld unterschiedlicher Anforderunge
 n agieren
DTSTART;TZID=Europe/Berlin:20180905T100000
DTEND;TZID=Europe/Berlin:20180905T160000
DTSTAMP:20260423T204112Z
UID:569da73d0999427085934add8b5f00a7@www.uni-marburg.de
ATTENDEE;CN="Dorothea Eckardt, KPR (www.uni-marburg.de/kpr)";ROLE=REQ-PART
 ICIPANT:Dorothea Eckardt, KPR (www.uni-marburg.de/kpr)
CREATED:20180125T145739Z
DESCRIPTION:https://www.uni-marburg.de/de/aktuelles/events/termine-3-quart
 al-2018/meisterhaftfuehren_ft\nWorkshop für Führungskräfte technischer 
 Bereiche im Rahmen der Veranstaltungsreihe „Meisterhaft Führen“
LAST-MODIFIED:20180518T110936Z
LOCATION:B|03\, Senatssitzungssaal 003\, Biegenstr. 12
URL:https://www.uni-marburg.de/de/aktuelles/events/termine-3-quartal-2018/
 meisterhaftfuehren_ft
END:VEVENT
BEGIN:VTIMEZONE
TZID:Europe/Berlin
X-LIC-LOCATION:Europe/Berlin
BEGIN:DAYLIGHT
DTSTART:20180325T030000
TZNAME:CEST
TZOFFSETFROM:+0100
TZOFFSETTO:+0200
END:DAYLIGHT
END:VTIMEZONE
END:VCALENDAR
