BEGIN:VCALENDAR
VERSION:2.0
PRODID:-//Plone.org//NONSGML plone.app.event//EN
X-WR-TIMEZONE:Europe/Berlin
BEGIN:VEVENT
SUMMARY:Migration\, Flucht und öffentliche Erziehung: Ermöglichung von T
 eilhabechancen?
DTSTART;TZID=Europe/Berlin:20180704T201500
DTEND;TZID=Europe/Berlin:20180704T214500
DTSTAMP:20260423T142731Z
UID:0757052782f5406c97a55370fc1674b5@www.uni-marburg.de
ATTENDEE;CN="Prof. Dr. Ulrike Hormel";ROLE=REQ-PARTICIPANT:Prof. Dr. Ulrik
 e Hormel
CREATED:20180215T141458Z
DESCRIPTION:https://www.uni-marburg.de/de/aktuelles/events/termine-3-quart
 al-2018/migration-teilhabechancen\nStudium Generale im SoSe 2018 an der Ph
 ilipps-Universität Marburg
LAST-MODIFIED:20180215T145857Z
LOCATION:Audimax\, Hörsaalgebäude\, Biegenstr. 14
URL:https://www.uni-marburg.de/de/aktuelles/events/termine-3-quartal-2018/
 migration-teilhabechancen
END:VEVENT
BEGIN:VTIMEZONE
TZID:Europe/Berlin
X-LIC-LOCATION:Europe/Berlin
BEGIN:DAYLIGHT
DTSTART:20180325T030000
TZNAME:CEST
TZOFFSETFROM:+0100
TZOFFSETTO:+0200
END:DAYLIGHT
END:VTIMEZONE
END:VCALENDAR
