BEGIN:VCALENDAR
VERSION:2.0
PRODID:-//Plone.org//NONSGML plone.app.event//EN
X-WR-TIMEZONE:Europe/Berlin
BEGIN:VEVENT
SUMMARY:Mittelhessische Unternehmertage
DTSTART;VALUE=DATE:20180912
DTEND;VALUE=DATE:20180913
DTSTAMP:20260423T163217Z
UID:9d155229964444b2a4b3fb62167c7a44@www.uni-marburg.de
CREATED:20180828T121503Z
DESCRIPTION:https://www.uni-marburg.de/de/aktuelles/events/termine-3-quart
 al-2018/mittelhessische-unternehmertage\nHochkarätig besetzte Unternehmer
 tagung der Universitäten Gießen und Marburg
LAST-MODIFIED:20180828T121535Z
LOCATION:Hauptgebäude der Justus-Liebig-Universität Gießen\, Ludwigstra
 ße 23\, 35390 Gießen
URL:https://www.uni-marburg.de/de/aktuelles/events/termine-3-quartal-2018/
 mittelhessische-unternehmertage
END:VEVENT
END:VCALENDAR
