BEGIN:VCALENDAR
VERSION:2.0
PRODID:-//Plone.org//NONSGML plone.app.event//EN
X-WR-TIMEZONE:Europe/Berlin
BEGIN:VEVENT
SUMMARY:Controlling Catalysis with Visible Light
DTSTART;TZID=Europe/Berlin:20180716T111500
DTSTAMP:20260424T045043Z
UID:0f0f6fdf753d4f97a5ba6cd1180e19fd@www.uni-marburg.de
ATTENDEE;CN="Prof. Dr. Tomislav Rovis, Department of Chemistry, Columbia U
 niversity";ROLE=REQ-PARTICIPANT:Prof. Dr. Tomislav Rovis, Department of Ch
 emistry, Columbia University
CREATED:20180601T070302Z
DESCRIPTION:https://www.uni-marburg.de/de/aktuelles/events/termine-3-quart
 al-2018/ockrovis\nKolloquium für Organische Chemie und Chemische Biologie
LAST-MODIFIED:20180601T070327Z
LOCATION:Fachbereich Chemie\, Seminarraum 1. OG Süd E173
URL:https://www.uni-marburg.de/de/aktuelles/events/termine-3-quartal-2018/
 ockrovis
END:VEVENT
BEGIN:VTIMEZONE
TZID:Europe/Berlin
X-LIC-LOCATION:Europe/Berlin
BEGIN:DAYLIGHT
DTSTART:20180325T030000
TZNAME:CEST
TZOFFSETFROM:+0100
TZOFFSETTO:+0200
END:DAYLIGHT
END:VTIMEZONE
END:VCALENDAR
