BEGIN:VCALENDAR
VERSION:2.0
PRODID:-//Plone.org//NONSGML plone.app.event//EN
X-WR-TIMEZONE:Europe/Berlin
BEGIN:VEVENT
SUMMARY:Break it to Make it - Strategies for Organic Synthesis
DTSTART;TZID=Europe/Berlin:20180831T111500
DTSTAMP:20260423T160452Z
UID:3893a44ffba84271a0dc80b72a958f4c@www.uni-marburg.de
ATTENDEE;CN="Prof. Dr. Richmond Sarpong, Department of Chemistry, Universi
 ty of California";ROLE=REQ-PARTICIPANT:Prof. Dr. Richmond Sarpong, Departm
 ent of Chemistry, University of California
CREATED:20180718T110208Z
DESCRIPTION:https://www.uni-marburg.de/de/aktuelles/events/termine-3-quart
 al-2018/ocksarpong\nVortrag im Rahmen des Kolloquiums für Organische Chem
 ie und Chemische Biologie
LAST-MODIFIED:20180718T110229Z
LOCATION:Fachbereich Chemie\, Hörsaalgebäude\, HS C
URL:https://www.uni-marburg.de/de/aktuelles/events/termine-3-quartal-2018/
 ocksarpong
END:VEVENT
BEGIN:VTIMEZONE
TZID:Europe/Berlin
X-LIC-LOCATION:Europe/Berlin
BEGIN:DAYLIGHT
DTSTART:20180325T030000
TZNAME:CEST
TZOFFSETFROM:+0100
TZOFFSETTO:+0200
END:DAYLIGHT
END:VTIMEZONE
END:VCALENDAR
