BEGIN:VCALENDAR
VERSION:2.0
PRODID:-//Plone.org//NONSGML plone.app.event//EN
X-WR-TIMEZONE:Europe/Berlin
BEGIN:VEVENT
SUMMARY:Explorations into Unprecedented Catalysts and Reactions
DTSTART;TZID=Europe/Berlin:20180918T111500
DTSTAMP:20260424T045113Z
UID:c6158065234741eaaa636ad49699bd0d@www.uni-marburg.de
ATTENDEE;CN="Dr. Uwe Schneider, The University of Edinburgh, School of Che
 mistry";ROLE=REQ-PARTICIPANT:Dr. Uwe Schneider, The University of Edinburg
 h, School of Chemistry
CREATED:20180817T063525Z
DESCRIPTION:https://www.uni-marburg.de/de/aktuelles/events/termine-3-quart
 al-2018/ockschneider\nVortrag im Rahmen des Kolloquiums der Organischen Ch
 emie und Chemischen Biologie
LAST-MODIFIED:20180817T063544Z
LOCATION:Fachbereich Chemie\, Seminarraum 1. OG Süd E173
URL:https://www.uni-marburg.de/de/aktuelles/events/termine-3-quartal-2018/
 ockschneider
END:VEVENT
BEGIN:VTIMEZONE
TZID:Europe/Berlin
X-LIC-LOCATION:Europe/Berlin
BEGIN:DAYLIGHT
DTSTART:20180325T030000
TZNAME:CEST
TZOFFSETFROM:+0100
TZOFFSETTO:+0200
END:DAYLIGHT
END:VTIMEZONE
END:VCALENDAR
