BEGIN:VCALENDAR
VERSION:2.0
PRODID:-//Plone.org//NONSGML plone.app.event//EN
X-WR-TIMEZONE:Europe/Berlin
BEGIN:VEVENT
SUMMARY:Controlling Chiral Environments Constructed by Molecular Catalysts
  and Enzymes
DTSTART;TZID=Europe/Berlin:20180907T111500
DTSTAMP:20260424T043927Z
UID:23460209b9584f9797ffe891521449b3@www.uni-marburg.de
ATTENDEE;CN="Dr. Yoshihiro Sohtome, Senior Research Scientist, RIKEN Synth
 etic Organic Chemistry Laboratory, Japan";ROLE=REQ-PARTICIPANT:Dr. Yoshihi
 ro Sohtome, Senior Research Scientist, RIKEN Synthetic Organic Chemistry L
 aboratory, Japan
CREATED:20180830T084129Z
DESCRIPTION:https://www.uni-marburg.de/de/aktuelles/events/termine-3-quart
 al-2018/ocksohtome\nVortrag im Rahmen des Kolloquiums für Organische Chem
 ie und Chemische Biologie
LAST-MODIFIED:20180830T084159Z
LOCATION:Fachbereich Chemie\, Seminarraum 1. OG Süd E173
URL:https://www.uni-marburg.de/de/aktuelles/events/termine-3-quartal-2018/
 ocksohtome
END:VEVENT
BEGIN:VTIMEZONE
TZID:Europe/Berlin
X-LIC-LOCATION:Europe/Berlin
BEGIN:DAYLIGHT
DTSTART:20180325T030000
TZNAME:CEST
TZOFFSETFROM:+0100
TZOFFSETTO:+0200
END:DAYLIGHT
END:VTIMEZONE
END:VCALENDAR
