BEGIN:VCALENDAR
VERSION:2.0
PRODID:-//Plone.org//NONSGML plone.app.event//EN
X-WR-TIMEZONE:Europe/Berlin
BEGIN:VEVENT
SUMMARY:Podiumsdiskussion zur hessischen Landtagswahl: Perspektiven für d
 ie Lehrerbildung
DTSTART;TZID=Europe/Berlin:20180814T180000
DTEND;TZID=Europe/Berlin:20180814T200000
DTSTAMP:20260423T233807Z
UID:4c4bb736e1c6416fa39d6e6e59100afb@www.uni-marburg.de
CREATED:20180725T121550Z
DESCRIPTION:https://www.uni-marburg.de/de/aktuelles/events/termine-3-quart
 al-2018/perspektiven-fuer-die-lehrerbildung\nVeranstaltung mit den wissens
 chafts- und schulpolitischen Sprecherinnen und Sprechern der Parteien im H
 essischen Landtag
LAST-MODIFIED:20180810T073558Z
LOCATION:Aula der Alten Universität\, Lahntor 3\, 35037 Marburg
URL:https://www.uni-marburg.de/de/aktuelles/events/termine-3-quartal-2018/
 perspektiven-fuer-die-lehrerbildung
END:VEVENT
BEGIN:VTIMEZONE
TZID:Europe/Berlin
X-LIC-LOCATION:Europe/Berlin
BEGIN:DAYLIGHT
DTSTART:20180325T030000
TZNAME:CEST
TZOFFSETFROM:+0100
TZOFFSETTO:+0200
END:DAYLIGHT
END:VTIMEZONE
END:VCALENDAR
