BEGIN:VCALENDAR
VERSION:2.0
PRODID:-//Plone.org//NONSGML plone.app.event//EN
X-WR-TIMEZONE:Europe/Berlin
BEGIN:VEVENT
SUMMARY:Pharmakotherapie
DTSTART;TZID=Europe/Berlin:20180704T160000
DTEND;TZID=Europe/Berlin:20180704T190000
DTSTAMP:20260424T010245Z
UID:e47d4ff4247f4ed58e071631f1e9e5dc@www.uni-marburg.de
ATTENDEE;CN="Dr. med. Andrea Hocke";ROLE=REQ-PARTICIPANT:Dr. med. Andrea H
 ocke
ATTENDEE;CN="Dr. Dr. Stefan Weinmann";ROLE=REQ-PARTICIPANT:Dr. Dr. Stefan 
 Weinmann
CREATED:20180413T111936Z
DESCRIPTION:https://www.uni-marburg.de/de/aktuelles/events/termine-3-quart
 al-2018/pharmakotherapie\nDer Vortrag findet im Rahmen unseres Psychiatris
 ch-Psychotherapeutischen Kolloquiums im Sommersemester 2018 statt.
LAST-MODIFIED:20180413T123045Z
LOCATION:Hörsaal Zentrum für Psychische Gesundheit
URL:https://www.uni-marburg.de/de/aktuelles/events/termine-3-quartal-2018/
 pharmakotherapie
END:VEVENT
BEGIN:VTIMEZONE
TZID:Europe/Berlin
X-LIC-LOCATION:Europe/Berlin
BEGIN:DAYLIGHT
DTSTART:20180325T030000
TZNAME:CEST
TZOFFSETFROM:+0100
TZOFFSETTO:+0200
END:DAYLIGHT
END:VTIMEZONE
END:VCALENDAR
