BEGIN:VCALENDAR
VERSION:2.0
PRODID:-//Plone.org//NONSGML plone.app.event//EN
X-WR-TIMEZONE:Europe/Berlin
BEGIN:VEVENT
SUMMARY:Populismus als mediales Wissen. Workshop von Portal Ideengeschicht
 e
DTSTART;TZID=Europe/Berlin:20180709T160000
DTEND;TZID=Europe/Berlin:20180709T180000
DTSTAMP:20260423T163307Z
UID:36e74850c76f460da76cb4d2ffc828c8@www.uni-marburg.de
CREATED:20180702T133907Z
DESCRIPTION:https://www.uni-marburg.de/de/aktuelles/events/termine-3-quart
 al-2018/populismus-als-mediales-wissen\nSiebente Präsentation des Projekt
 studiums "Wissen + Politik" im Forschungs- und Lehrschwerpunkt "Wissensges
 chichte politischer Ideen" von Portal Ideengeschichte.
LAST-MODIFIED:20180702T133919Z
LOCATION:Philipps-Universität Marburg\, Wilhelm-Röpke-Straße 6 (PhilFak
 )\, G-Gang\, Raum 00038
URL:https://www.uni-marburg.de/de/aktuelles/events/termine-3-quartal-2018/
 populismus-als-mediales-wissen
END:VEVENT
BEGIN:VTIMEZONE
TZID:Europe/Berlin
X-LIC-LOCATION:Europe/Berlin
BEGIN:DAYLIGHT
DTSTART:20180325T030000
TZNAME:CEST
TZOFFSETFROM:+0100
TZOFFSETTO:+0200
END:DAYLIGHT
END:VTIMEZONE
END:VCALENDAR
